BEGIN:VCALENDAR
VERSION:2.0
PRODID:-//Fargo Underground - ECPv6.15.20//NONSGML v1.0//EN
CALSCALE:GREGORIAN
METHOD:PUBLISH
X-ORIGINAL-URL:https://fargounderground.com
X-WR-CALDESC:Events for Fargo Underground
REFRESH-INTERVAL;VALUE=DURATION:PT1H
X-Robots-Tag:noindex
X-PUBLISHED-TTL:PT1H
BEGIN:VTIMEZONE
TZID:America/Chicago
BEGIN:DAYLIGHT
TZOFFSETFROM:-0600
TZOFFSETTO:-0500
TZNAME:CDT
DTSTART:20230312T080000
END:DAYLIGHT
BEGIN:STANDARD
TZOFFSETFROM:-0500
TZOFFSETTO:-0600
TZNAME:CST
DTSTART:20231105T070000
END:STANDARD
BEGIN:DAYLIGHT
TZOFFSETFROM:-0600
TZOFFSETTO:-0500
TZNAME:CDT
DTSTART:20240310T080000
END:DAYLIGHT
BEGIN:STANDARD
TZOFFSETFROM:-0500
TZOFFSETTO:-0600
TZNAME:CST
DTSTART:20241103T070000
END:STANDARD
BEGIN:DAYLIGHT
TZOFFSETFROM:-0600
TZOFFSETTO:-0500
TZNAME:CDT
DTSTART:20250309T080000
END:DAYLIGHT
BEGIN:STANDARD
TZOFFSETFROM:-0500
TZOFFSETTO:-0600
TZNAME:CST
DTSTART:20251102T070000
END:STANDARD
BEGIN:DAYLIGHT
TZOFFSETFROM:-0600
TZOFFSETTO:-0500
TZNAME:CDT
DTSTART:20260308T080000
END:DAYLIGHT
BEGIN:STANDARD
TZOFFSETFROM:-0500
TZOFFSETTO:-0600
TZNAME:CST
DTSTART:20261101T070000
END:STANDARD
END:VTIMEZONE
BEGIN:VEVENT
DTSTART;TZID=America/Chicago:20250624T090000
DTEND;TZID=America/Chicago:20250624T133000
DTSTAMP:20260419T073505
CREATED:20250602T192430Z
LAST-MODIFIED:20250602T192430Z
UID:10055440-1750755600-1750771800@fargounderground.com
SUMMARY:Heartstrings: Youth Grief Retreat
DESCRIPTION:Hospice of the Red River Valley invites children ages 7-14 to attend Heartstrings: Youth Grief Retreat\, a special day camp designed to support youth who have experienced the death of a loved one. Through engaging activities\, meaningful discussions and time spent in nature\, participants will explore how grief feels\, learn healthy ways to cope and discover paths toward healing.\n\nHeld in the peaceful setting of That’s the Dream Farm\, the retreat offers a blend of outdoor and indoor experiences. Each camper will receive a backpack\, a copy of The Invisible String and the creative projects they work on throughout the day. The retreat concludes with a heartfelt Remembrance Service\, where families are invites to join their children for lunch and the planting of a memorial tree in honor of loved ones who have died.\n\nWhen: Tuesday\, June 24\, 2025 from 9:00am-1:30pmWhere: That’s the Dream Farm; 7552 70th Ave. N. Glyndon\, MN 56547\n\nRegistration is required by June 18. To register\, please visit: https://www.hrrv.org/grief-support/youth-grief-class-registration\n\nFor questions\, please contact Janna Kontz at jkontz@hrrv.org.\n\nHeartstrings: Youth Grief Retreat is made possible through the generous support of the Cullen Children’s Foundation
URL:https://fargounderground.com/event/heartstrings-youth-grief-retreat/
LOCATION:That’s the Dream Farm\, 7552 70th Ave. N.\, Glyndon\, MN\, 56547\, United States
CATEGORIES:Families & Kids
ATTACH;FMTTYPE=image/png:https://fargounderground.com/wp-content/uploads/2025/05/Heartstrings-Youth-Grief-Retreat_1920x1005px_Graphic.png
ORGANIZER;CN="Hospice of the Red River Valley":MAILTO:questions@hrrv.org
GEO:46.9501001;-96.6413297
X-APPLE-STRUCTURED-LOCATION;VALUE=URI;X-ADDRESS=That’s the Dream Farm 7552 70th Ave. N. Glyndon MN 56547 United States;X-APPLE-RADIUS=500;X-TITLE=7552 70th Ave. N.:geo:-96.6413297,46.9501001
END:VEVENT
BEGIN:VEVENT
DTSTART;TZID=America/Chicago:20250409T113000
DTEND;TZID=America/Chicago:20250409T130000
DTSTAMP:20260419T073505
CREATED:20250303T190946Z
LAST-MODIFIED:20250303T190946Z
UID:10052637-1744198200-1744203600@fargounderground.com
SUMMARY:Your Grief is Your Grief - Everyone is Unique
DESCRIPTION:Often well-meaning friends and family try to compare their own grief to yours and may even tell you how to grieve. While they are trying to help\, we know that everyone’s grief is unique to their own relationship and their own loss. This class gives you not only coping hints\, but the permission to grieve in your own time and in your own way.\n\nLearn more here: https://www.hrrv.org/event/your-grief-is-your-grief-everyone-is-unique/
URL:https://fargounderground.com/event/your-grief-is-your-grief-everyone-is-unique/
LOCATION:First Lutheran Church\, 619 Broadway North\, Fargo\, ND\, 58102\, United States
CATEGORIES:Classes & Workshops
ATTACH;FMTTYPE=image/png:https://fargounderground.com/wp-content/uploads/2025/02/Education-Series-Your-Grief-is-Your-Grief-Everyone-is-Unique.png
ORGANIZER;CN="Hospice of the Red River Valley":MAILTO:questions@hrrv.org
GEO:46.8826529;-96.7868986
X-APPLE-STRUCTURED-LOCATION;VALUE=URI;X-ADDRESS=First Lutheran Church 619 Broadway North Fargo ND 58102 United States;X-APPLE-RADIUS=500;X-TITLE=619 Broadway North:geo:-96.7868986,46.8826529
END:VEVENT
BEGIN:VEVENT
DTSTART;TZID=America/Chicago:20250402T113000
DTEND;TZID=America/Chicago:20250402T130000
DTSTAMP:20260419T073505
CREATED:20250303T190942Z
LAST-MODIFIED:20250303T190942Z
UID:10052636-1743593400-1743598800@fargounderground.com
SUMMARY:What is Heather's House?
DESCRIPTION:In this session\, participants will learn what a hospice house is\, how Heather’s House will impact our region\, who Heather’s House will serve and how to reach out for help.\n\nLearn more here: https://www.hrrv.org/event/what-is-heathers-house/
URL:https://fargounderground.com/event/what-is-heathers-house/
LOCATION:First Lutheran Church\, 619 Broadway North\, Fargo\, ND\, 58102\, United States
CATEGORIES:Classes & Workshops
ATTACH;FMTTYPE=image/png:https://fargounderground.com/wp-content/uploads/2025/02/Education-Series-What-Is-Heathers-House.png
ORGANIZER;CN="Hospice of the Red River Valley":MAILTO:questions@hrrv.org
GEO:46.8826529;-96.7868986
X-APPLE-STRUCTURED-LOCATION;VALUE=URI;X-ADDRESS=First Lutheran Church 619 Broadway North Fargo ND 58102 United States;X-APPLE-RADIUS=500;X-TITLE=619 Broadway North:geo:-96.7868986,46.8826529
END:VEVENT
BEGIN:VEVENT
DTSTART;TZID=America/Chicago:20250312T113000
DTEND;TZID=America/Chicago:20250312T130000
DTSTAMP:20260419T073505
CREATED:20250303T190934Z
LAST-MODIFIED:20250303T190934Z
UID:10052635-1741779000-1741784400@fargounderground.com
SUMMARY:Dementia Workshop Part #1
DESCRIPTION:In this session\, participants will learn what dementia is and how it impacts a person’s life\, what the highs and lows of dementia are and hear the story of a man diagnosed with onset dementia.\n\nLearn more here: https://www.hrrv.org/event/dementia-workshop-part-1/
URL:https://fargounderground.com/event/dementia-workshop-part-1/
LOCATION:First Lutheran Church\, 619 Broadway North\, Fargo\, ND\, 58102\, United States
CATEGORIES:Classes & Workshops
ATTACH;FMTTYPE=image/png:https://fargounderground.com/wp-content/uploads/2025/02/Education-Series-Dementia-Part-1.png
ORGANIZER;CN="Hospice of the Red River Valley":MAILTO:questions@hrrv.org
GEO:46.8826529;-96.7868986
X-APPLE-STRUCTURED-LOCATION;VALUE=URI;X-ADDRESS=First Lutheran Church 619 Broadway North Fargo ND 58102 United States;X-APPLE-RADIUS=500;X-TITLE=619 Broadway North:geo:-96.7868986,46.8826529
END:VEVENT
BEGIN:VEVENT
DTSTART;TZID=America/Chicago:20241010T173000
DTEND;TZID=America/Chicago:20241010T190000
DTSTAMP:20260419T073505
CREATED:20240913T183541Z
LAST-MODIFIED:20240913T183541Z
UID:10047591-1728581400-1728586800@fargounderground.com
SUMMARY:Painted Stones - A Remembrance Service
DESCRIPTION:Join Hospice of the Red River Valley in painting stones to be used as we gather to honor and remember your loved ones. This event is free and open to the public. For further details and to register\, please visit: https://bit.ly/griefclassschedule
URL:https://fargounderground.com/event/painted-stones-a-remembrance-service-2/
LOCATION:Hospice of the Red River Valley\, 3800 56th Ave. S.\, Fargo\, ND\, 58104\, United States
CATEGORIES:Community & Civic
ATTACH;FMTTYPE=image/jpeg:https://fargounderground.com/wp-content/uploads/2024/08/Painted-Stones-A-Remembrance-Service-1-scaled.jpg
ORGANIZER;CN="Hospice of the Red River Valley":MAILTO:questions@hrrv.org
GEO:46.8542091;-96.8425612
X-APPLE-STRUCTURED-LOCATION;VALUE=URI;X-ADDRESS=Hospice of the Red River Valley 3800 56th Ave. S. Fargo ND 58104 United States;X-APPLE-RADIUS=500;X-TITLE=3800 56th Ave. S.:geo:-96.8425612,46.8542091
END:VEVENT
BEGIN:VEVENT
DTSTART;TZID=America/Chicago:20241010T140000
DTEND;TZID=America/Chicago:20241010T153000
DTSTAMP:20260419T073505
CREATED:20240913T183448Z
LAST-MODIFIED:20240913T183448Z
UID:10047590-1728568800-1728574200@fargounderground.com
SUMMARY:Painted Stones - A Remembrance Service
DESCRIPTION:Join Hospice of the Red River Valley in painting stones to be used as we gather to honor and remember your loved ones. This event is free and open to the public. For further details and to register\, please visit: https://bit.ly/griefclassschedule
URL:https://fargounderground.com/event/painted-stones-a-remembrance-service/
LOCATION:Hospice of the Red River Valley\, 3800 56th Ave. S.\, Fargo\, ND\, 58104\, United States
CATEGORIES:Community & Civic
ATTACH;FMTTYPE=image/jpeg:https://fargounderground.com/wp-content/uploads/2024/08/Painted-Stones-A-Remembrance-Service-scaled.jpg
ORGANIZER;CN="Hospice of the Red River Valley":MAILTO:questions@hrrv.org
GEO:46.8542091;-96.8425612
X-APPLE-STRUCTURED-LOCATION;VALUE=URI;X-ADDRESS=Hospice of the Red River Valley 3800 56th Ave. S. Fargo ND 58104 United States;X-APPLE-RADIUS=500;X-TITLE=3800 56th Ave. S.:geo:-96.8425612,46.8542091
END:VEVENT
BEGIN:VEVENT
DTSTART;TZID=America/Chicago:20240717T190000
DTEND;TZID=America/Chicago:20240717T220000
DTSTAMP:20260419T073505
CREATED:20240709T162356Z
LAST-MODIFIED:20240709T162356Z
UID:10047132-1721242800-1721253600@fargounderground.com
SUMMARY:Hospice of the Red River Valley & FM RedHawks
DESCRIPTION:High Point Networks and the FM RedHawks are highlighting Hospice of the Red River Valley as the Community Organization of the Game\, July 17th at 7:00 p.m.! \nBring your friends and family to support Hospice of the Red River Valley at the game! With every advanced ticket purchased using the promo code\, the RedHawks will donate $2 back to HRRV. \nTo purchase an advanced ticket online\, click here! \nPROMO CODE: HRRV See alsoCommunityFeaturedLivingHere & Now: Inside Downtown’s Mom-and-Pop Tattoo & Barber Shop\nSee you at the ballpark!
URL:https://fargounderground.com/event/hospice-of-the-red-river-valley-fm-redhawks/
LOCATION:Newman Outdoor Field\, 1515 15th Ave N\, Fargo\, ND\, 58102\, United States
CATEGORIES:Fundraiser,Health & Wellness,Spectator Sports
ATTACH;FMTTYPE=image/jpeg:https://fargounderground.com/wp-content/uploads/2024/06/HORRV_23194B_RdHwks_Graphic_1080x1080_0624-scaled.jpg
ORGANIZER;CN="Hospice of the Red River Valley":MAILTO:questions@hrrv.org
GEO:46.898578;-96.804179
X-APPLE-STRUCTURED-LOCATION;VALUE=URI;X-ADDRESS=Newman Outdoor Field 1515 15th Ave N Fargo ND 58102 United States;X-APPLE-RADIUS=500;X-TITLE=1515 15th Ave N:geo:-96.804179,46.898578
END:VEVENT
BEGIN:VEVENT
DTSTART;TZID=America/Chicago:20240619T090000
DTEND;TZID=America/Chicago:20240619T130000
DTSTAMP:20260419T073505
CREATED:20240306T232623Z
LAST-MODIFIED:20240306T232623Z
UID:10042226-1718787600-1718802000@fargounderground.com
SUMMARY:Children's Grief Retreat
DESCRIPTION:A comfortable and inviting opportunity for children ages 6-17\, who have lost a loved one to death. The retreat will foster healing and growth as we learn about grief and loss\, healthy ways of coping and the importance of remembering loved ones. Attendees can expect group activities\, a special remembrance project\, and an opportunity to spend time with and learn about the horses and other critters on the farm. Dress for outdoor play. Snacks and cold sandwiches will be served. Parents\, guardians\, or special adults should return at 12pm for light refreshments and a group remembrance activity. \nRegistration required by June 5th here: https://www.hrrv.org/grief-support/2024-grief-class-registration/
URL:https://fargounderground.com/event/childrens-grief-retreat-2/
LOCATION:That’s the Dream Farm\, 7552 70th Ave. N.\, Glyndon\, MN\, 56547\, United States
CATEGORIES:Community & Civic
ORGANIZER;CN="Hospice of the Red River Valley":MAILTO:questions@hrrv.org
GEO:46.9501001;-96.6413297
X-APPLE-STRUCTURED-LOCATION;VALUE=URI;X-ADDRESS=That’s the Dream Farm 7552 70th Ave. N. Glyndon MN 56547 United States;X-APPLE-RADIUS=500;X-TITLE=7552 70th Ave. N.:geo:-96.6413297,46.9501001
END:VEVENT
BEGIN:VEVENT
DTSTART;TZID=America/Chicago:20240612T170000
DTEND;TZID=America/Chicago:20240612T180000
DTSTAMP:20260419T073505
CREATED:20240305T223807Z
LAST-MODIFIED:20240305T223807Z
UID:10041552-1718211600-1718215200@fargounderground.com
SUMMARY:Etched in Memory - A Grief Class for Young Adults
DESCRIPTION:Join Hospice of the Red River Valley in etching a glass candle in remembrance of your loved ones who have passed. \nThis event is free and open to those ages 18-25. Please register as space is limited here: https://www.hrrv.org/grief-support/2024-grief-class-registration/
URL:https://fargounderground.com/event/etched-in-memory-a-grief-class-for-young-adults/
LOCATION:Atomic Coffee\, 222 Broadway N\, Fargo\, ND\, 58102\, United States
ORGANIZER;CN="Hospice of the Red River Valley":MAILTO:questions@hrrv.org
GEO:46.87801361084;-96.787658691406
X-APPLE-STRUCTURED-LOCATION;VALUE=URI;X-ADDRESS=Atomic Coffee 222 Broadway N Fargo ND 58102 United States;X-APPLE-RADIUS=500;X-TITLE=222 Broadway N:geo:-96.787658691406,46.87801361084
END:VEVENT
BEGIN:VEVENT
DTSTART;TZID=America/Chicago:20240502T173000
DTEND;TZID=America/Chicago:20240502T190000
DTSTAMP:20260419T073505
CREATED:20240305T223441Z
LAST-MODIFIED:20240305T223441Z
UID:10040502-1714671000-1714676400@fargounderground.com
SUMMARY:Etched in Memory - A Remembrance Service
DESCRIPTION:Join Hospice of the Red River Valley in etching a glass candle to be used as we gather to honor and remember your loved ones. You will be able to take home your etched candle following the service. \nThis event is open to the public. Please register as space is limited here: https://www.hrrv.org/grief-support/2024-grief-class-registration/
URL:https://fargounderground.com/event/etched-in-memory-a-remembrance-service/
LOCATION:Hospice of the Red River Valley\, 3800 56th Ave. S.\, Fargo\, ND\, 58104\, United States
CATEGORIES:Clubs & Groups,Community & Civic
ORGANIZER;CN="Hospice of the Red River Valley":MAILTO:questions@hrrv.org
GEO:46.8542091;-96.8425612
X-APPLE-STRUCTURED-LOCATION;VALUE=URI;X-ADDRESS=Hospice of the Red River Valley 3800 56th Ave. S. Fargo ND 58104 United States;X-APPLE-RADIUS=500;X-TITLE=3800 56th Ave. S.:geo:-96.8425612,46.8542091
END:VEVENT
BEGIN:VEVENT
DTSTART;TZID=America/Chicago:20240320T120000
DTEND;TZID=America/Chicago:20240320T133000
DTSTAMP:20260419T073505
CREATED:20240125T172120Z
LAST-MODIFIED:20240125T172120Z
UID:10037572-1710936000-1710941400@fargounderground.com
SUMMARY:How to Help a Grieving Friend
DESCRIPTION:Join Hospice of the Red River Valley on March 20th from 12:00-1:30 p.m. at First Lutheran Church for our How to Help a Grieving Friend education session. Attendees will learn practical tips and guidance on how to best support a friend or family member who is grieving. The session is free and open to the public with a light lunch being provided.
URL:https://fargounderground.com/event/how-to-help-a-grieving-friend/
LOCATION:First Lutheran Church\, 619 Broadway North\, Fargo\, ND\, 58102\, United States
CATEGORIES:Classes & Workshops,Educational,Speakers & Programs
ATTACH;FMTTYPE=image/png:https://fargounderground.com/wp-content/uploads/2024/01/How-to-Help-a-Grieving-Friend.png
ORGANIZER;CN="Hospice of the Red River Valley":MAILTO:questions@hrrv.org
GEO:46.8826529;-96.7868986
X-APPLE-STRUCTURED-LOCATION;VALUE=URI;X-ADDRESS=First Lutheran Church 619 Broadway North Fargo ND 58102 United States;X-APPLE-RADIUS=500;X-TITLE=619 Broadway North:geo:-96.7868986,46.8826529
END:VEVENT
BEGIN:VEVENT
DTSTART;TZID=America/Chicago:20240313T120000
DTEND;TZID=America/Chicago:20240313T133000
DTSTAMP:20260419T073505
CREATED:20240125T172119Z
LAST-MODIFIED:20240125T172119Z
UID:10037571-1710331200-1710336600@fargounderground.com
SUMMARY:Dementia Workshop
DESCRIPTION:Join Hospice of the Red River Valley on March 13th from 12:00-1:30 p.m. at First Lutheran Church for our Dementia Workshop education session. Attendees will learn how to develop better observational skills to recognize and intervene effectively when behavioral challenges occur\, how to care for people in different ability states and how to connect. The session is free and open to the public with a light lunch being provided.
URL:https://fargounderground.com/event/dementia-workshop/
LOCATION:First Lutheran Church\, 619 Broadway North\, Fargo\, ND\, 58102\, United States
CATEGORIES:Classes & Workshops,Educational,Speakers & Programs
ATTACH;FMTTYPE=image/png:https://fargounderground.com/wp-content/uploads/2024/01/Dementia-Workshop.png
ORGANIZER;CN="Hospice of the Red River Valley":MAILTO:questions@hrrv.org
GEO:46.8826529;-96.7868986
X-APPLE-STRUCTURED-LOCATION;VALUE=URI;X-ADDRESS=First Lutheran Church 619 Broadway North Fargo ND 58102 United States;X-APPLE-RADIUS=500;X-TITLE=619 Broadway North:geo:-96.7868986,46.8826529
END:VEVENT
END:VCALENDAR